BEGIN:VCALENDAR
VERSION:2.0
PRODID:-//Grimedia//Event Calendar//EN
CALSCALE:GREGORIAN
METHOD:PUBLISH
BEGIN:VEVENT
UID:05efaf42-4fa0-4d76-a36a-be187ef900cc@https://gri.media
DTSTAMP:20260420T022617Z
SUMMARY:Toccare il cielo 460 volte con Fadri Ratti
DESCRIPTION:Organizzato dalla Chiesa evangelica riformata di Bregaglia
LOCATION:Chiesa Santa Trinità\,  Vicosoprano\, Svizzera
URL:https://labregaglia.ch/eventi/toccare-il-cielo-460-volte-con-fadri-ratti
DTSTART:20260502T160000Z
DTEND:20260502T170000Z
END:VEVENT
END:VCALENDAR