BEGIN:VCALENDAR
VERSION:2.0
PRODID:-//Grimedia//Event Calendar//EN
CALSCALE:GREGORIAN
METHOD:PUBLISH
BEGIN:VEVENT
UID:f7c39582-dea8-43e1-95d0-9501f039715f@https://gri.media
DTSTAMP:20260420T022618Z
SUMMARY:Stüeda con Doranna Revoir-Giacometti
DESCRIPTION:Doranna Revoir-Giacometti racconterà 40 anni della sua vita quale moglie di pastore valdese in diverse regioni d’Italia.
LOCATION:Ristorante Val d’Arca\,  Stampa\, Svizzera
URL:https://labregaglia.ch/eventi/stueda-con-doranna-revoir-giacometti
DTSTART:20260430T130000Z
DTEND:20260430T140000Z
END:VEVENT
END:VCALENDAR