BEGIN:VCALENDAR
VERSION:2.0
PRODID:-//Grimedia//Event Calendar//EN
CALSCALE:GREGORIAN
METHOD:PUBLISH
BEGIN:VEVENT
UID:280c1f70-48f5-4aef-b87d-1938b6a81a74@https://gri.media
DTSTAMP:20260420T022611Z
SUMMARY:Neofite & e paesaggio agricolo quali sfide stiamo affrontando?
DESCRIPTION:Pomeriggio informativo sulle neofite invasive e le misure a favore della biodiversità nel paesaggio agricolo della Val Bregaglia.
LOCATION:Ritrovo: 13:30 alla Villa Garbald\,  Castasegna\, Svizzera
URL:https://labregaglia.ch/eventi/neofite-e-paesaggio-agricolo-quali-sfide-stiamo-affrontando
DTSTART;VALUE=DATE:20260502
DTEND;VALUE=DATE:20260503
END:VEVENT
END:VCALENDAR