BEGIN:VCALENDAR
VERSION:2.0
PRODID:-//Grimedia//Event Calendar//EN
CALSCALE:GREGORIAN
METHOD:PUBLISH
BEGIN:VEVENT
UID:470df817-4a02-4f70-becc-b1ea69fad2bf@https://gri.media
DTSTAMP:20260420T022619Z
SUMMARY:Incontro pubblico con i candidati al governo
DESCRIPTION:Alleanza del Centro Bregaglia.
LOCATION:Val d’Arca\,  Stampa\, Svizzera
URL:https://labregaglia.ch/eventi/incontro-pubblico-con-i-candidati-al-governo
DTSTART:20260501T180000Z
DTEND:20260501T190000Z
END:VEVENT
END:VCALENDAR