BEGIN:VCALENDAR
VERSION:2.0
PRODID:-//Grimedia//Event Calendar//EN
CALSCALE:GREGORIAN
METHOD:PUBLISH
BEGIN:VEVENT
UID:b0f0a823-4713-41fd-8bb9-b698b6080030@https://gri.media
DTSTAMP:20260420T022618Z
SUMMARY:Incontro pubblico bilingue con vari candidati al Governo e al Gran Consiglio
DESCRIPTION:L’evento è organizzato dalle sezioni Bregaglia-Engadina di  UDC\, PLR e PS in vista delle elezioni per il Governo ed il Gran consiglio del prossimo 14 giugno 2026.
LOCATION:Ristorante Maloja Kulm\,  Maloja\, Svizzera
URL:https://labregaglia.ch/eventi/incontro-pubblico-bilingue-con-vari-candidati-al-governo-e-al-gran-consiglio
DTSTART:20260515T180000Z
DTEND:20260515T190000Z
END:VEVENT
END:VCALENDAR