BEGIN:VCALENDAR
VERSION:2.0
PRODID:-//Grimedia//Event Calendar//EN
CALSCALE:GREGORIAN
METHOD:PUBLISH
BEGIN:VEVENT
UID:ce963453-8777-4c77-9d45-79c8d8b0e2d0@https://gri.media
DTSTAMP:20260420T022612Z
SUMMARY:Incontro con Biennale Bregaglia
DESCRIPTION:Incontro con Biennale Bregaglia: NOplace\, un evento collaterale a Maloja.
LOCATION:Mensa scolastica\,  Stampa\, Svizzera
URL:https://labregaglia.ch/eventi/incontro-con-biennale-bregaglia
DTSTART:20260429T180000Z
DTEND:20260429T190000Z
END:VEVENT
END:VCALENDAR