BEGIN:VCALENDAR
VERSION:2.0
PRODID:-//Grimedia//Event Calendar//EN
CALSCALE:GREGORIAN
METHOD:PUBLISH
BEGIN:VEVENT
UID:4af3c35b-92bb-41e9-a455-62e49c44dbb3@https://gri.media
DTSTAMP:20260420T022611Z
SUMMARY:Elezioni del Gran Consiglio
DESCRIPTION:Invito al dibattito pubblico con i quattro candidati per il circondario elettorale di Bregaglia.
LOCATION:Hotel La Soglina\,  Soglio\, Svizzera
URL:https://labregaglia.ch/eventi/elezioni-del-gran-consiglio
DTSTART:20260507T181500Z
DTEND:20260507T191500Z
END:VEVENT
END:VCALENDAR