BEGIN:VCALENDAR
VERSION:2.0
PRODID:-//Grimedia//Event Calendar//EN
CALSCALE:GREGORIAN
METHOD:PUBLISH
BEGIN:VEVENT
UID:1387b7f0-6194-439b-9343-afe61bfbf380@https://gri.media
DTSTAMP:20260420T022611Z
SUMMARY:Associazione castanicoltori Bregaglia
DESCRIPTION:Assemblea Associazione castanicoltori Bregaglia.
LOCATION:Sala comunitaria\,  Castasegna\, Svizzera
URL:https://labregaglia.ch/eventi/associazione-castanicoltori-bregaglia
DTSTART:20260522T173000Z
DTEND:20260522T183000Z
END:VEVENT
END:VCALENDAR